BEGIN:VCALENDAR
VERSION:2.0
PRODID:-//Asociación para la Diabetes de Zaragoza - ECPv6.0.12//NONSGML v1.0//EN
CALSCALE:GREGORIAN
METHOD:PUBLISH
X-ORIGINAL-URL:https://diabeteszaragoza.org
X-WR-CALDESC:Eventos para Asociación para la Diabetes de Zaragoza
REFRESH-INTERVAL;VALUE=DURATION:PT1H
X-Robots-Tag:noindex
X-PUBLISHED-TTL:PT1H
BEGIN:VTIMEZONE
TZID:Europe/Madrid
BEGIN:DAYLIGHT
TZOFFSETFROM:+0100
TZOFFSETTO:+0200
TZNAME:CEST
DTSTART:20260329T010000
END:DAYLIGHT
BEGIN:STANDARD
TZOFFSETFROM:+0200
TZOFFSETTO:+0100
TZNAME:CET
DTSTART:20261025T010000
END:STANDARD
END:VTIMEZONE
BEGIN:VEVENT
DTSTART;TZID=Europe/Madrid:20260224T173000
DTEND;TZID=Europe/Madrid:20260224T183000
DTSTAMP:20260417T010958
CREATED:20260211T123806Z
LAST-MODIFIED:20260211T123806Z
UID:4341-1771954200-1771957800@diabeteszaragoza.org
SUMMARY:Charla "Diabetes y lectura de etiquetado"
DESCRIPTION:Charla «Diabetes y lectura de etiquetado» en espacio H de Heraldo de Aragón \nDIABETES ZARAGOZA\nAsiste a la charla ‘Diabetes y lectura de etiquetado de alimentos\, ¿Por qué y cómo lo hago?’ impartida por Diabetes Zaragoza \n 
URL:https://diabeteszaragoza.org/evento/charla-diabetes-y-lectura-de-etiquetado/
LOCATION:Espacio H Heraldo de Aragon\, P.º de la Independencia\, 29\, Zaragoza\, Zaragoza\, España
ORGANIZER;CN="Asociaci%C3%B3n%20para%20la%20Diabetes%20de%20Zaragoza":MAILTO:asociacion@diabeteszaragoza.org
END:VEVENT
END:VCALENDAR