BEGIN:VCALENDAR
VERSION:2.0
PRODID:-//Asociación para la Diabetes de Zaragoza - ECPv6.0.12//NONSGML v1.0//EN
CALSCALE:GREGORIAN
METHOD:PUBLISH
X-WR-CALNAME:Asociación para la Diabetes de Zaragoza
X-ORIGINAL-URL:https://diabeteszaragoza.org
X-WR-CALDESC:Eventos para Asociación para la Diabetes de Zaragoza
REFRESH-INTERVAL;VALUE=DURATION:PT1H
X-Robots-Tag:noindex
X-PUBLISHED-TTL:PT1H
BEGIN:VTIMEZONE
TZID:Europe/Madrid
BEGIN:DAYLIGHT
TZOFFSETFROM:+0100
TZOFFSETTO:+0200
TZNAME:CEST
DTSTART:20260329T010000
END:DAYLIGHT
BEGIN:STANDARD
TZOFFSETFROM:+0200
TZOFFSETTO:+0100
TZNAME:CET
DTSTART:20261025T010000
END:STANDARD
END:VTIMEZONE
BEGIN:VEVENT
DTSTART;VALUE=DATE:20260312
DTEND;VALUE=DATE:20260330
DTSTAMP:20260417T211800
CREATED:20260304T082919Z
LAST-MODIFIED:20260304T094707Z
UID:4354-1773273600-1774828799@diabeteszaragoza.org
SUMMARY:Formación Técnicos de Enfermeria
DESCRIPTION:Formación en Océano Atlántico a Técnicos de Enfermería.
URL:https://diabeteszaragoza.org/evento/formacion-tecnicos-de-enfermeria/
LOCATION:Oceano atlantico\, Zaragoza\, Zaragoza\, España
CATEGORIES:Charlas y formaciones
ORGANIZER;CN="Asociaci%C3%B3n%20para%20la%20Diabetes%20de%20Zaragoza":MAILTO:asociacion@diabeteszaragoza.org
END:VEVENT
BEGIN:VEVENT
DTSTART;VALUE=DATE:20260313
DTEND;VALUE=DATE:20260314
DTSTAMP:20260417T211800
CREATED:20260304T094749Z
LAST-MODIFIED:20260304T094749Z
UID:4356-1773360000-1773446399@diabeteszaragoza.org
SUMMARY:Formación Aldeas Infantiles
DESCRIPTION:Formación en Aldeas Infantiles.
URL:https://diabeteszaragoza.org/evento/formacion-aldeas-infantiles/
LOCATION:Aldeas Infantiles\, Zaragoza\, Zaragoza\, España
ORGANIZER;CN="Asociaci%C3%B3n%20para%20la%20Diabetes%20de%20Zaragoza":MAILTO:asociacion@diabeteszaragoza.org
END:VEVENT
BEGIN:VEVENT
DTSTART;TZID=Europe/Madrid:20260313T173000
DTEND;TZID=Europe/Madrid:20260313T183000
DTSTAMP:20260417T211800
CREATED:20260304T094958Z
LAST-MODIFIED:20260304T094958Z
UID:4358-1773423000-1773426600@diabeteszaragoza.org
SUMMARY:Charla Alimentación y menopausia
DESCRIPTION: Charla: Alimentación y Menopausia \n\nViernes 13 de marzo\n17:30 h\nCentro Cívico Esquinas del Psiquiátrico (Vía Universitas\, 30)\nPonente: Jana Ferrer (Dietista-Nutricionista)\n\nDesde la Asociación Diabetes Zaragoza te invitamos a esta charla sobre cómo la alimentación puede ayudarte durante la menopausia.
URL:https://diabeteszaragoza.org/evento/charla-alimentacion-y-menopausia/
LOCATION:Centro Cívico Esquinas del Psiquiátrico\, Vía Univérsitas\, 30\, Delicias\, Zaragoza\, Zaragoza\, 50017\, España
CATEGORIES:Charlas y formaciones
ORGANIZER;CN="Asociaci%C3%B3n%20para%20la%20Diabetes%20de%20Zaragoza":MAILTO:asociacion@diabeteszaragoza.org
END:VEVENT
END:VCALENDAR