BEGIN:VCALENDAR
VERSION:2.0
PRODID:-//Asociación para la Diabetes de Zaragoza - ECPv6.0.12//NONSGML v1.0//EN
CALSCALE:GREGORIAN
METHOD:PUBLISH
X-ORIGINAL-URL:https://diabeteszaragoza.org
X-WR-CALDESC:Eventos para Asociación para la Diabetes de Zaragoza
REFRESH-INTERVAL;VALUE=DURATION:PT1H
X-Robots-Tag:noindex
X-PUBLISHED-TTL:PT1H
BEGIN:VTIMEZONE
TZID:Europe/Madrid
BEGIN:DAYLIGHT
TZOFFSETFROM:+0100
TZOFFSETTO:+0200
TZNAME:CEST
DTSTART:20260329T010000
END:DAYLIGHT
BEGIN:STANDARD
TZOFFSETFROM:+0200
TZOFFSETTO:+0100
TZNAME:CET
DTSTART:20261025T010000
END:STANDARD
END:VTIMEZONE
BEGIN:VEVENT
DTSTART;VALUE=DATE:20260221
DTEND;VALUE=DATE:20260222
DTSTAMP:20260418T084709
CREATED:20260211T123413Z
LAST-MODIFIED:20260211T123504Z
UID:4339-1771632000-1771718399@diabeteszaragoza.org
SUMMARY:Diabetes Experience Day Cordoba
DESCRIPTION:El próximo 21 de febrero de 2026\, Córdoba será el escenario de la 12ª edición del Diabetes Experience Day\, el mayor evento de habla hispana dedicado a las personas que conviven con la diabetes. Y no es casualidad que esta ciudad haya sido elegida como sede. Córdoba es una ciudad de encuentros\, de historias entrelazadas\, de puentes que han unido culturas\, generaciones y saberes a lo largo del tiempo. Y ese simbolismo es el que queremos hacer nuestro este año: tender puentes en diabetes. \nDesde su nacimiento en 2014\, el Diabetes Experience Day se ha consolidado como un espacio único donde la voz del paciente es la protagonista. Un evento que rompe barreras\, que pone cara a la diabetes\, queescucha\, informa\, emociona y transforma. A lo largo de cada edición\, miles de personas han compartido experiencias\, avances médicos\, innovaciones tecnológicas y\, sobre todo\, historias humanas que conectan a quienes viven con esta condición. \nEn 2026\, volvemos con una edición especial. Una jornada en la que queremos conectar orillas:\n• La de los pacientes y la de los profesionales.\n• La del conocimiento científico y la experiencia personal.\n• La de la innovación tecnológica y el cuidado emocional.\n• La del día a día con la diabetes y el futuro que estamos construyendo juntos.
URL:https://diabeteszaragoza.org/evento/diabetes-experience-day-cordoba/
LOCATION:CENTRO DE EXPOSICIONES\, FERIAS Y CONVENCIONES DE CÓRDOBA\, Junto al Parque Joyero\, Av. de la Fábrica\, s/n\, 14005 Córdob
END:VEVENT
END:VCALENDAR